BEGIN:VCALENDAR
VERSION:2.0
PRODID:-//Minnesota OES - ECPv6.15.20//NONSGML v1.0//EN
CALSCALE:GREGORIAN
METHOD:PUBLISH
X-ORIGINAL-URL:https://mnoes.com
X-WR-CALDESC:Events for Minnesota OES
REFRESH-INTERVAL;VALUE=DURATION:PT1H
X-Robots-Tag:noindex
X-PUBLISHED-TTL:PT1H
BEGIN:VTIMEZONE
TZID:UTC
BEGIN:STANDARD
TZOFFSETFROM:+0000
TZOFFSETTO:+0000
TZNAME:UTC
DTSTART:20230101T000000
END:STANDARD
END:VTIMEZONE
BEGIN:VTIMEZONE
TZID:America/Chicago
BEGIN:DAYLIGHT
TZOFFSETFROM:-0600
TZOFFSETTO:-0500
TZNAME:CDT
DTSTART:20230312T080000
END:DAYLIGHT
BEGIN:STANDARD
TZOFFSETFROM:-0500
TZOFFSETTO:-0600
TZNAME:CST
DTSTART:20231105T070000
END:STANDARD
BEGIN:DAYLIGHT
TZOFFSETFROM:-0600
TZOFFSETTO:-0500
TZNAME:CDT
DTSTART:20240310T080000
END:DAYLIGHT
BEGIN:STANDARD
TZOFFSETFROM:-0500
TZOFFSETTO:-0600
TZNAME:CST
DTSTART:20241103T070000
END:STANDARD
BEGIN:DAYLIGHT
TZOFFSETFROM:-0600
TZOFFSETTO:-0500
TZNAME:CDT
DTSTART:20250309T080000
END:DAYLIGHT
BEGIN:STANDARD
TZOFFSETFROM:-0500
TZOFFSETTO:-0600
TZNAME:CST
DTSTART:20251102T070000
END:STANDARD
END:VTIMEZONE
BEGIN:VEVENT
DTSTART;TZID=UTC:20240302T173000
DTEND;TZID=UTC:20240302T220000
DTSTAMP:20260422T163958
CREATED:20231213T095225Z
LAST-MODIFIED:20240225T231926Z
UID:5457-1709400600-1709416800@mnoes.com
SUMMARY:Arcana - St. Anthony Park Cancer Dance Benefit
DESCRIPTION:
URL:https://mnoes.com/event/arcana-st-anthony-park-cancer-dance-benefit/
LOCATION:Rosetown American Legion\, 700 County Road C W\,\, Roseville\, MN\, 55113
END:VEVENT
BEGIN:VEVENT
DTSTART;TZID=America/Chicago:20240316T150000
DTEND;TZID=America/Chicago:20240316T170000
DTSTAMP:20260422T163958
CREATED:20240309T190823Z
LAST-MODIFIED:20240309T190823Z
UID:5535-1710601200-1710608400@mnoes.com
SUMMARY:Granite Chapter Installation
DESCRIPTION:
URL:https://mnoes.com/event/granite-chapter-installation/
LOCATION:Granite Chapter (St. Cloud Masonic Center)\, 518 1/2 W Saint Germain St\,\, Saint Cloud\, MN\, 56301 ·
END:VEVENT
END:VCALENDAR