BEGIN:VCALENDAR
VERSION:2.0
PRODID:-//Minnesota OES - ECPv6.15.20//NONSGML v1.0//EN
CALSCALE:GREGORIAN
METHOD:PUBLISH
X-WR-CALNAME:Minnesota OES
X-ORIGINAL-URL:https://mnoes.com
X-WR-CALDESC:Events for Minnesota OES
REFRESH-INTERVAL;VALUE=DURATION:PT1H
X-Robots-Tag:noindex
X-PUBLISHED-TTL:PT1H
BEGIN:VTIMEZONE
TZID:UTC
BEGIN:STANDARD
TZOFFSETFROM:+0000
TZOFFSETTO:+0000
TZNAME:UTC
DTSTART:20220101T000000
END:STANDARD
END:VTIMEZONE
BEGIN:VEVENT
DTSTART;TZID=UTC:20231009T190000
DTEND;TZID=UTC:20231009T210000
DTSTAMP:20260422T232610
CREATED:20230928T190104Z
LAST-MODIFIED:20230928T190257Z
UID:5433-1696878000-1696885200@mnoes.com
SUMMARY:Unity Grand Representative Honoring
DESCRIPTION:
URL:https://mnoes.com/event/unity-grand-representative-honoring/
LOCATION:Austin Masonic Lodge\, 303 N Main St\,\, Austin\, MN\, 55912
ATTACH;FMTTYPE=image/jpeg:https://mnoes.com/wp-content/uploads/2023/09/Unity-Gr-Rep-Honoring.jpg
END:VEVENT
BEGIN:VEVENT
DTSTART;VALUE=DATE:20231014
DTEND;VALUE=DATE:20231015
DTSTAMP:20260422T232610
CREATED:20230817T052258Z
LAST-MODIFIED:20230817T064539Z
UID:5379-1697241600-1697327999@mnoes.com
SUMMARY:Alzheimers Benefit & Halloween Party
DESCRIPTION:
URL:https://mnoes.com/event/alzheimers-benefit-halloween-party/
LOCATION:Anoka American Legion\, 400 West Main Street\, Anoka\, MN\, 55303\, United States
ATTACH;FMTTYPE=image/jpeg:https://mnoes.com/wp-content/uploads/2023/08/PurpleParty.jpg
END:VEVENT
BEGIN:VEVENT
DTSTART;TZID=UTC:20231021T083000
DTEND;TZID=UTC:20231021T150000
DTSTAMP:20260422T232610
CREATED:20230701T220345Z
LAST-MODIFIED:20230729T064327Z
UID:5339-1697877000-1697900400@mnoes.com
SUMMARY:Area Conference - Renaissance Chapter #313\, Savage\, MN
DESCRIPTION:Minnesota\nAREA CONFERENCES 2023\n“Ritual Recall and Code Chatter”\nDear Sisters and Brothers\,\nWe hope you will attend at least one of the Area Conferences scheduled for Saturdays in August\, September\, and October. \nThe dates and locations are: \n\nAugust 26th at Granite Chapter # 5 in St. Cloud\nSeptember 30th at Rochester Chapter # 193 in Rochester\nOctober 21st at Renaissance Chapter # 313 in Savage.\n\nRegistration opens at 8:30 am with the conference starting at 9:00 am. A lunch will be served around 12:30 pm. The lunch charge is $ 10.00 per person and Reservations are required. \nWe are planning to cover the ritualistic opening and closing of our meetings\, balloting options\, basics of conducting a meeting and tips from Robert’s Rules of Order. You will have a chance to test yourself with a friendly trivia quiz and we hope to field questions you may have that can be answered by the Board\, Line Officers\, District\nInstructors or our other Star experts. Bring those questions you have always wanted to ask but did not. You may submit them in writing or via email ahead of time or you will have the opportunity during our Q & A time slot. \nWe will have an optional short half hour session after lunch for anyone who has questions about becoming a District Instructor or who might entertain the idea of\nrunning for Associate Grand Conductress or Grand Sentinel some day. Those who have specific questions about her/his chapter office will have the chance to ask them as well. Come for the education and review. Enjoy the fellowship and fun. We are all Stars in training. \nArea Conference Team\nC J Brase\, AGM\nDan Hanley\, AGP\nKathleen Taylor\, GC\nKurt Johnson\, GS \nReservations for Renaissance (Savage) Area Conference: \n\nMail checks made out to Renaissance Chapter # 313 to: \nTed Smith \n108 Riverside Lane \nJordan MN 55352-1717  \nDeadline October 16th \nQuestions: 952-492-6977 \nSec.ren313oes@gmail.com
URL:https://mnoes.com/event/area-conference-renaissance-chapter-313-savage-mn/
LOCATION:Renaissance Chapter #313 (Savage Masonic Center)\, 4821 West 124th Street\, Savage\, MN\, 55378
CATEGORIES:2023 Area Conference
ORGANIZER;CN="Ted Smith":MAILTO:sec.ren313oes@gmail.com
END:VEVENT
BEGIN:VEVENT
DTSTART;TZID=UTC:20231021T180000
DTEND;TZID=UTC:20231021T210000
DTSTAMP:20260422T232610
CREATED:20230928T191219Z
LAST-MODIFIED:20230928T191219Z
UID:5436-1697911200-1697922000@mnoes.com
SUMMARY:Helping Paws Tail Waggin Gala
DESCRIPTION:
URL:https://mnoes.com/event/helping-paws-tail-waggin-gala/
LOCATION:MN
END:VEVENT
BEGIN:VEVENT
DTSTART;TZID=UTC:20231024T193000
DTEND;TZID=UTC:20231024T213000
DTSTAMP:20260422T232610
CREATED:20230919T001822Z
LAST-MODIFIED:20230919T002024Z
UID:5414-1698175800-1698183000@mnoes.com
SUMMARY:Myrtle Chapter Halloween Official Visit
DESCRIPTION:
URL:https://mnoes.com/event/myrtle-chapter-halloween-official-visit/
LOCATION:Corinthian Lodge\, Farmington\, 326 3rd St\,\, Farmington\, MN\, 55024
ATTACH;FMTTYPE=application/pdf:https://mnoes.com/wp-content/uploads/2023/09/9-24-23-Halloween-OV-and-Honoring.pdf
ORGANIZER;CN="Barbara Lang":MAILTO:youngathrt7@aol.com
END:VEVENT
BEGIN:VEVENT
DTSTART;TZID=UTC:20231025T173000
DTEND;TZID=UTC:20231025T213000
DTSTAMP:20260422T232610
CREATED:20230925T011250Z
LAST-MODIFIED:20230925T011250Z
UID:5424-1698255000-1698269400@mnoes.com
SUMMARY:Bloomington Chapter Halloween Official Visit\, Honoring Grand Warder Wanda Thompson
DESCRIPTION:
URL:https://mnoes.com/event/bloomington-chapter-halloween-official-visit-honoring-grand-warder-wanda-thompson/
LOCATION:Bloomington Chapter #307 (Savage Masonic Center)\, 4821 W 124th St\, Savage\, 55378\, United States
ATTACH;FMTTYPE=application/pdf:https://mnoes.com/wp-content/uploads/2023/09/Bloomington-OV-2023.pdf
END:VEVENT
END:VCALENDAR