BEGIN:VCALENDAR
VERSION:2.0
PRODID:-//Minnesota OES - ECPv6.15.20//NONSGML v1.0//EN
CALSCALE:GREGORIAN
METHOD:PUBLISH
X-ORIGINAL-URL:https://mnoes.com
X-WR-CALDESC:Events for Minnesota OES
REFRESH-INTERVAL;VALUE=DURATION:PT1H
X-Robots-Tag:noindex
X-PUBLISHED-TTL:PT1H
BEGIN:VTIMEZONE
TZID:America/Chicago
BEGIN:DAYLIGHT
TZOFFSETFROM:-0600
TZOFFSETTO:-0500
TZNAME:CDT
DTSTART:20240310T080000
END:DAYLIGHT
BEGIN:STANDARD
TZOFFSETFROM:-0500
TZOFFSETTO:-0600
TZNAME:CST
DTSTART:20241103T070000
END:STANDARD
BEGIN:DAYLIGHT
TZOFFSETFROM:-0600
TZOFFSETTO:-0500
TZNAME:CDT
DTSTART:20250309T080000
END:DAYLIGHT
BEGIN:STANDARD
TZOFFSETFROM:-0500
TZOFFSETTO:-0600
TZNAME:CST
DTSTART:20251102T070000
END:STANDARD
BEGIN:DAYLIGHT
TZOFFSETFROM:-0600
TZOFFSETTO:-0500
TZNAME:CDT
DTSTART:20260308T080000
END:DAYLIGHT
BEGIN:STANDARD
TZOFFSETFROM:-0500
TZOFFSETTO:-0600
TZNAME:CST
DTSTART:20261101T070000
END:STANDARD
END:VTIMEZONE
BEGIN:VEVENT
DTSTART;TZID=America/Chicago:20250630T190000
DTEND;TZID=America/Chicago:20250630T193000
DTSTAMP:20260420T101432
CREATED:20250525T004441Z
LAST-MODIFIED:20250525T004441Z
UID:5791-1751310000-1751311800@mnoes.com
SUMMARY:Educational Zoom - Brother Rob Morris
DESCRIPTION:EDUCATIONAL ZOOM CALL-Monday\, June 30 at 7 pm \nSponsored by the Grand Chapter Membership Committee\nThis will be a short\, 30 minute or so presentation covering:\nRob Morris:  Biography and his thoughts about starting Order of the Eastern Star.\nMinnesota Grand Chapter:  Origins and early history.\nLinks to sources will also be provided\nPresented by Kurt Johnson\, WGP \nhttps://hga.zoom.us/j/99748823736?pwd=KbcyjMG0nX7B6AzgwZVxrPnV04nR9u.1
URL:https://mnoes.com/event/educational-zoom-brother-rob-morris/
LOCATION:MN
END:VEVENT
END:VCALENDAR